BEGIN:VCALENDAR
VERSION:2.0
METHOD:PUBLISH
PRODID:-//Agenda.ad//NONSGML v1.0//EN
BEGIN:VEVENT
CLASS:PUBLIC
UID:ea7ddff9c90d895c9d04ff533032e4ac@agenda.ad
DTSTAMP:20260422T181858Z
DTSTART:20260529T220000Z
DTEND:20260529T220000Z
SUMMARY:<span>Cl&agrave;ssicAnd 2026.&nbsp;<span>Carmina Burana &ndash; Carl Orff</span></span>
DESCRIPTION:\n\nMés informació\nhttps://www.agenda.ad/activitat/andorr
 a-la-vella/musica/classicand-2026 carmina-burana-carl-orff\
 n
LOCATION:Parc Central
SEQUENCE:0
TRANSP:OPAQUE
X-ALT-DESC;FMTTYPE=text/html:<!DOCTYPE HTML PUBLIC "-//W3C//DTD HTML 3.2//EN"><HTML><HEAD
 ><TITLE></TITLE></HEAD><BODY><FONT FACE="Arial" SIZE=2><br/>
 <br/><b>Més informació</b><br/><a href="https://www.agenda
 .ad/activitat/andorra-la-vella/musica/classicand-2026 carmi
 na-burana-carl-orff">https://www.agenda.ad/activitat/andorra
 -la-vella/musica/classicand-2026 carmina-burana-carl-orff</
 a><br/></FONT></BODY></HTML>
END:VEVENT
END:VCALENDAR